BEGIN:VCALENDAR
VERSION:2.0
PRODID:-//jEvents 2.0 for Joomla//EN
CALSCALE:GREGORIAN
METHOD:PUBLISH
BEGIN:VEVENT
UID:b5c1139d489830d305c73e0cd4b8af2a
CATEGORIES:Handball
CREATED:20180117T092814
SUMMARY:Handball wJC 1: HSG Sulz-Murr - TVA
DESCRIPTION:
DTSTAMP:20260424T035718
DTSTART:20180204T133000
DTEND:20180204T150000
SEQUENCE:0
TRANSP:OPAQUE
END:VEVENT
END:VCALENDAR