BEGIN:VCALENDAR
VERSION:2.0
PRODID:-//jEvents 2.0 for Joomla//EN
CALSCALE:GREGORIAN
METHOD:PUBLISH
BEGIN:VEVENT
UID:fe7f6fa0b2c5a5844a1da7bfa4c467cf
CATEGORIES:Handball
CREATED:20180117T093244
SUMMARY:Handball Frauen: HC Metter-Enz - TVA
DESCRIPTION:
DTSTAMP:20260423T102725
DTSTART:20180218T170000
DTEND:20180218T183000
SEQUENCE:0
TRANSP:OPAQUE
END:VEVENT
END:VCALENDAR