BEGIN:VCALENDAR
VERSION:2.0
PRODID:-//jEvents 2.0 for Joomla//EN
CALSCALE:GREGORIAN
METHOD:PUBLISH
BEGIN:VEVENT
UID:85d70fe97f58f3e2ac66f5c874733510
CATEGORIES:Handball
CREATED:20180117T093602
SUMMARY:Handball mJC: TVA - SV Illingen
DESCRIPTION:
DTSTAMP:20260421T031451
DTSTART:20180224T160000
DTEND:20180224T173000
SEQUENCE:0
TRANSP:OPAQUE
END:VEVENT
END:VCALENDAR