BEGIN:VCALENDAR
VERSION:2.0
PRODID:-//jEvents 2.0 for Joomla//EN
CALSCALE:GREGORIAN
METHOD:PUBLISH
BEGIN:VEVENT
UID:e09523ca7065c4cd2ecbb2d4fc35482e
CATEGORIES:Handball
CREATED:20180117T094602
SUMMARY:Handball wJC 2: TVA - TV Markgrön.
DESCRIPTION:
DTSTAMP:20260424T105830
DTSTART:20180224T130000
DTEND:20180224T143000
SEQUENCE:0
TRANSP:OPAQUE
END:VEVENT
END:VCALENDAR