BEGIN:VCALENDAR
VERSION:2.0
PRODID:-//jEvents 2.0 for Joomla//EN
CALSCALE:GREGORIAN
METHOD:PUBLISH
BEGIN:VEVENT
UID:762dfcb596284164a56c9af666dc7264
CATEGORIES:Tischtennis
CREATED:20180220T091556
SUMMARY:Tischtennis U18: TV Tamm - TVA
DESCRIPTION:
DTSTAMP:20260419T142844
DTSTART:20180224T133000
DTEND:20180224T153000
SEQUENCE:0
TRANSP:OPAQUE
END:VEVENT
END:VCALENDAR