BEGIN:VCALENDAR
VERSION:2.0
PRODID:-//jEvents 2.0 for Joomla//EN
CALSCALE:GREGORIAN
METHOD:PUBLISH
BEGIN:VEVENT
UID:153e1448dd579d12de59a0e2a933a37e
CATEGORIES:Handball
CREATED:20180221T075955
SUMMARY:Handball Männer 2: TVA - HCOB Opp/BK 5
DESCRIPTION:
DTSTAMP:20260424T143315
DTSTART:20180310T160000
DTEND:20180310T173000
SEQUENCE:0
TRANSP:OPAQUE
END:VEVENT
END:VCALENDAR