BEGIN:VCALENDAR
VERSION:2.0
PRODID:-//jEvents 2.0 for Joomla//EN
CALSCALE:GREGORIAN
METHOD:PUBLISH
BEGIN:VEVENT
UID:b0a7324725b28e7fff019f0afea345cc
CATEGORIES:Handball
CREATED:20180221T080927
SUMMARY:Handball mJB: TSV Affalterbach - TVA
DESCRIPTION:
DTSTAMP:20260421T105141
DTSTART:20180317T153000
DTEND:20180317T170000
SEQUENCE:0
TRANSP:OPAQUE
END:VEVENT
END:VCALENDAR