BEGIN:VCALENDAR
VERSION:2.0
PRODID:-//jEvents 2.0 for Joomla//EN
CALSCALE:GREGORIAN
METHOD:PUBLISH
BEGIN:VEVENT
UID:81750a65098f0abb483bbe008a2d14fc
CATEGORIES:Fußball Aktive extern
CREATED:20181223T125618
SUMMARY:Hallen-BetreuerCup
LOCATION:Regentalhalle Aldingen
DESCRIPTION:
DTSTAMP:20260422T012310
DTSTART:20190105T103000
DTEND:20190105T160000
SEQUENCE:0
TRANSP:OPAQUE
END:VEVENT
END:VCALENDAR