BEGIN:VCALENDAR
VERSION:2.0
PRODID:-//jEvents 2.0 for Joomla//EN
CALSCALE:GREGORIAN
METHOD:PUBLISH
BEGIN:VEVENT
UID:be65a221d7a125212e54333d22c2a5db
CATEGORIES:Fußball Aktive extern
CREATED:20181223T125706
SUMMARY:Hallen-ElternCup
LOCATION:Regentalhalle Aldingen
DESCRIPTION:
DTSTAMP:20260422T111437
DTSTART:20190105T170000
DTEND:20190105T200000
SEQUENCE:0
TRANSP:OPAQUE
END:VEVENT
END:VCALENDAR