BEGIN:VCALENDAR
VERSION:2.0
PRODID:-//jEvents 2.0 for Joomla//EN
CALSCALE:GREGORIAN
METHOD:PUBLISH
BEGIN:VEVENT
UID:4aea8e1c034ddff01827465d51ac79f5
CATEGORIES:Fußball Jugend extern
CREATED:20190121T122514
SUMMARY:Verbandsmeisterschaften der B- und A-Junioren
LOCATION:Regentalhalle
DESCRIPTION:Wir dürfen als Veranstalter das nächste Highlight in Sachen Hallenfußball i
 n der Regentalhalle willkommen heißen. Am 3.2.2019 werden die Bezirksmeiste
 r der B- und A-Junioren im Futsal um den Einzug in das Finale auf Verbandse
 bene ringen, um dort den Württembergischen Meister auszuspielen. Bei den A-
 Junioren wird der Bezirk Enz/Murr und die Stadt Remseck durch die A-Juniore
 n des TVA vertreten sein!\n Somit wartet ein sportlich besonderer Leckerbis
 sen in der Regentalhalle auf die Freunde des gepflegten Hallenfußballs! Hie
 rzu möchten wir ganz herzlich einladen. Wir würden uns daher sehr freuen, w
 enn die Remsecker Regentalhalle mit einer tollen Zuschauerkulisse einen wür
 digen Schauplatz darstellt für die Creme de la Creme im Bezirk und für ganz
  Württemberg.\n Wir freuen uns auf Euer Kommen.\n
X-ALT-DESC;FMTTYPE=text/html:<p>Wir dürfen als Veranstalter das nächste Highlight in Sachen Hallenfußbal
 l in der Regentalhalle willkommen heißen. Am 3.2.2019 werden die Bezirksmei
 ster der B- und A-Junioren im Futsal um den Einzug in das Finale auf Verban
 dsebene ringen, um dort den Württembergischen Meister auszuspielen. Bei den
  A-Junioren wird der Bezirk Enz/Murr und die Stadt Remseck durch die A-Juni
 oren des TVA vertreten sein!<br /> Somit wartet ein sportlich besonderer Le
 ckerbissen in der Regentalhalle auf die Freunde des gepflegten Hallenfußbal
 ls! Hierzu möchten wir ganz herzlich einladen. Wir würden uns daher sehr fr
 euen, wenn die Remsecker Regentalhalle mit einer tollen Zuschauerkulisse ei
 nen würdigen Schauplatz darstellt für die Creme de la Creme im Bezirk und f
 ür ganz Württemberg.<br /> Wir freuen uns auf Euer Kommen.</p>
DTSTAMP:20260425T211758
DTSTART:20190203T100000
DTEND:20190203T170000
SEQUENCE:0
TRANSP:OPAQUE
END:VEVENT
END:VCALENDAR