BEGIN:VCALENDAR
VERSION:2.0
PRODID:-//jEvents 2.0 for Joomla//EN
CALSCALE:GREGORIAN
METHOD:PUBLISH
BEGIN:VEVENT
UID:1b266e031bb1d7e1a93f053ebd4050b2
CATEGORIES:Fußball Aktive extern
CREATED:20190121T122848
SUMMARY:Freundsch.sp.: TVA I - Spvgg Hirschlanden-Schöckingen 
LOCATION:Sportplatz Aldingen
DESCRIPTION:
DTSTAMP:20260424T061448
DTSTART:20190203T150000
DTEND:20190203T170000
SEQUENCE:0
TRANSP:OPAQUE
END:VEVENT
END:VCALENDAR