BEGIN:VCALENDAR
VERSION:2.0
PRODID:-//jEvents 2.0 for Joomla//EN
CALSCALE:GREGORIAN
METHOD:PUBLISH
BEGIN:VEVENT
UID:1d6beea9d949d0f73bbc8eee12054322
CATEGORIES:Fußball Aktive extern
CREATED:20190121T124157
SUMMARY:Fußball: TVA I -  SKV Rutesheim II
LOCATION:Sportplatz Aldingen
DESCRIPTION:
DTSTAMP:20260419T175840
DTSTART:20190308T193000
DTEND:20190308T220000
SEQUENCE:0
TRANSP:OPAQUE
END:VEVENT
END:VCALENDAR