BEGIN:VCALENDAR
VERSION:2.0
PRODID:-//jEvents 2.0 for Joomla//EN
CALSCALE:GREGORIAN
METHOD:PUBLISH
BEGIN:VEVENT
UID:d93c65f2d3682cfca98b4a082f1b6fb5
CATEGORIES:Fußball Aktive extern
CREATED:20190121T124544
SUMMARY:Fußball: TVA I -  FSV 08 Bissingen II
LOCATION:Sportplatz Aldingen
DESCRIPTION:
DTSTAMP:20260420T115049
DTSTART:20190324T150000
DTEND:20190324T170000
SEQUENCE:0
TRANSP:OPAQUE
END:VEVENT
END:VCALENDAR