BEGIN:VCALENDAR
VERSION:2.0
PRODID:-//jEvents 2.0 for Joomla//EN
CALSCALE:GREGORIAN
METHOD:PUBLISH
BEGIN:VEVENT
UID:08b52e069701da93f3202133f237d7b7
CATEGORIES:Tischtennis
CREATED:20190208T184909
SUMMARY:Tischtennis: KSG Gerlingen 5 - TVA 2
DESCRIPTION:
DTSTAMP:20260421T001243
DTSTART:20190330T143000
DTEND:20190330T173000
SEQUENCE:0
TRANSP:OPAQUE
END:VEVENT
END:VCALENDAR