BEGIN:VCALENDAR
VERSION:2.0
PRODID:-//jEvents 2.0 for Joomla//EN
CALSCALE:GREGORIAN
METHOD:PUBLISH
BEGIN:VEVENT
UID:57ed98499360081b83827dd4fbd270a9
CATEGORIES:Tischtennis extern
CREATED:20190208T190212
SUMMARY:Tischtennis: TVA 4 - KSG Gerlingen 6
LOCATION:Pattonville
DESCRIPTION:
DTSTAMP:20260423T153847
DTSTART:20190302T180000
DTEND:20190302T200000
SEQUENCE:0
TRANSP:OPAQUE
END:VEVENT
END:VCALENDAR