BEGIN:VCALENDAR
VERSION:2.0
PRODID:-//jEvents 2.0 for Joomla//EN
CALSCALE:GREGORIAN
METHOD:PUBLISH
BEGIN:VEVENT
UID:2f9b42dcc833fcc63843de5a1a82c279
CATEGORIES:Tischtennis
CREATED:20190208T191256
SUMMARY:Tiscchtennis Sen60: KSG Gerlingen - TVA
DESCRIPTION:
DTSTAMP:20260426T042208
DTSTART:20190314T200000
DTEND:20190314T220000
SEQUENCE:0
TRANSP:OPAQUE
END:VEVENT
END:VCALENDAR